BEGIN:VCALENDAR
VERSION:2.0
PRODID:-//https://www.sandiegofamily.com///NONSGML kigkonsult.se iCalcreator 2.10.15//
METHOD:PUBLISH
BEGIN:VEVENT
UID:20260424T204538UTC-5561gP5XOM@https://www.sandiegofamily.com/
DTSTAMP:20260424T204538Z
DESCRIPTION: https://www.sandiegofamily.com/things-to-do/events-calendar/ev
 ent/50268-balboa-park-pow-wow
DTSTART;VALUE=DATE:20260509
LOCATION:San Diego\, CA ()
SUMMARY:Balboa Park Pow Wow
URL:https://www.sandiegofamily.com/things-to-do/events-calendar/event/50268
 -balboa-park-pow-wow
END:VEVENT
END:VCALENDAR
