BEGIN:VCALENDAR
VERSION:2.0
PRODID:-//https://www.sandiegofamily.com///NONSGML kigkonsult.se iCalcreator 2.10.15//
METHOD:PUBLISH
BEGIN:VEVENT
UID:20260425T142646UTC-5465LOLXEI@https://www.sandiegofamily.com/
DTSTAMP:20260425T142646Z
DESCRIPTION: https://www.sandiegofamily.com/things-to-do/events-calendar/ev
 ent/50265-recess-at-omas-dump-trucks-dozers
DTSTART;VALUE=DATE:20260508
LOCATION:Oma's Pumpkin Patch (14950 El Monte Rd\, Lakeside\, CA 92040\, USA
 )
SUMMARY:Recess at Oma’s: Dump Trucks & Dozers
URL:https://www.sandiegofamily.com/things-to-do/events-calendar/event/50265
 -recess-at-omas-dump-trucks-dozers
END:VEVENT
END:VCALENDAR
