BEGIN:VCALENDAR
VERSION:2.0
PRODID:-//https://www.sandiegofamily.com///NONSGML kigkonsult.se iCalcreator 2.10.15//
METHOD:PUBLISH
BEGIN:VEVENT
UID:20260424T174947UTC-2460hPKWPU@https://www.sandiegofamily.com/
DTSTAMP:20260424T174947Z
DESCRIPTION: https://www.sandiegofamily.com/things-to-do/events-calendar/ev
 ent/50264-jimbos-garden-workshop-tuna-sandwiches
DTSTART;VALUE=DATE:20260508
LOCATION:Children's Museum of Discovery (320 N Broadway\, Escondido\, CA 92
 025\, USA)
SUMMARY:Jimbo’s Garden Workshop: Tuna Sandwiches
URL:https://www.sandiegofamily.com/things-to-do/events-calendar/event/50264
 -jimbos-garden-workshop-tuna-sandwiches
END:VEVENT
END:VCALENDAR
