BEGIN:VCALENDAR
VERSION:2.0
PRODID:-//https://www.sandiegofamily.com///NONSGML kigkonsult.se iCalcreator 2.10.15//
METHOD:PUBLISH
BEGIN:VEVENT
UID:20260425T141017UTC-5187H7xwg3@https://www.sandiegofamily.com/
DTSTAMP:20260425T141017Z
DESCRIPTION: https://www.sandiegofamily.com/things-to-do/events-calendar/ev
 ent/50263-gator-by-the-bay
DTSTART;VALUE=DATE:20260510
LOCATION:Spanish Landing Park (3900 N Harbor Dr\, San Diego\, CA 92101\, US
 A)
SUMMARY:Gator By the Bay
URL:https://www.sandiegofamily.com/things-to-do/events-calendar/event/50263
 -gator-by-the-bay
END:VEVENT
END:VCALENDAR
