BEGIN:VCALENDAR
VERSION:2.0
PRODID:-//https://www.sandiegofamily.com///NONSGML kigkonsult.se iCalcreator 2.10.15//
METHOD:PUBLISH
BEGIN:VEVENT
UID:20260425T194759UTC-2361NlC9vu@https://www.sandiegofamily.com/
DTSTAMP:20260425T194759Z
DESCRIPTION: https://www.sandiegofamily.com/things-to-do/events-calendar/ev
 ent/50261-gator-by-the-bay
DTSTART;VALUE=DATE:20260508
LOCATION:Spanish Landing Park (3900 N Harbor Dr\, San Diego\, CA 92101\, US
 A)
SUMMARY:Gator By the Bay
URL:https://www.sandiegofamily.com/things-to-do/events-calendar/event/50261
 -gator-by-the-bay
END:VEVENT
END:VCALENDAR
