BEGIN:VCALENDAR
VERSION:2.0
PRODID:-//https://www.sandiegofamily.com///NONSGML kigkonsult.se iCalcreator 2.10.15//
METHOD:PUBLISH
BEGIN:VEVENT
UID:20260424T132101UTC-9637lSvMnw@https://www.sandiegofamily.com/
DTSTAMP:20260424T132101Z
DESCRIPTION: https://www.sandiegofamily.com/things-to-do/events-calendar/ev
 ent/50257-mothers-day-teas
DTSTART;VALUE=DATE:20260510
LOCATION:Julian CA (2811 Washington St\, Julian\, CA 92036\, USA)
SUMMARY:Mother’s Day Teas
URL:https://www.sandiegofamily.com/things-to-do/events-calendar/event/50257
 -mothers-day-teas
END:VEVENT
END:VCALENDAR
