BEGIN:VCALENDAR
VERSION:2.0
PRODID:-//https://www.sandiegofamily.com///NONSGML kigkonsult.se iCalcreator 2.10.15//
METHOD:PUBLISH
BEGIN:VEVENT
UID:20260424T161717UTC-1617VvFGvN@https://www.sandiegofamily.com/
DTSTAMP:20260424T161717Z
DESCRIPTION: https://www.sandiegofamily.com/things-to-do/events-calendar/ev
 ent/50254-mothers-day-teas
DTSTART;VALUE=DATE:20260507
LOCATION:Julian CA (2811 Washington St\, Julian\, CA 92036\, USA)
SUMMARY:Mother’s Day Teas
URL:https://www.sandiegofamily.com/things-to-do/events-calendar/event/50254
 -mothers-day-teas
END:VEVENT
END:VCALENDAR
