BEGIN:VCALENDAR
VERSION:2.0
PRODID:-//https://www.sandiegofamily.com///NONSGML kigkonsult.se iCalcreator 2.10.15//
METHOD:PUBLISH
BEGIN:VEVENT
UID:20260423T144643UTC-4013oSJkB3@https://www.sandiegofamily.com/
DTSTAMP:20260423T144643Z
DESCRIPTION: https://www.sandiegofamily.com/things-to-do/events-calendar/ev
 ent/50239-cajon-cruise
DTSTART;VALUE=DATE:20260520
LOCATION:El Cajon (1017 S Mollison Ave\, El Cajon\, CA 92020\, USA)
SUMMARY:Cajon Cruise
URL:https://www.sandiegofamily.com/things-to-do/events-calendar/event/50239
 -cajon-cruise
END:VEVENT
END:VCALENDAR
