BEGIN:VCALENDAR
VERSION:2.0
PRODID:-//https://www.sandiegofamily.com///NONSGML kigkonsult.se iCalcreator 2.10.15//
METHOD:PUBLISH
BEGIN:VEVENT
UID:20260425T170130UTC-9240UfVhj9@https://www.sandiegofamily.com/
DTSTAMP:20260425T170130Z
DESCRIPTION: https://www.sandiegofamily.com/things-to-do/events-calendar/ev
 ent/50234-mj---the-musical
DTSTART;VALUE=DATE:20260506
LOCATION:San Diego Civic Theatre (1100 Third Ave\, San Diego\, CA 92101\, U
 SA)
SUMMARY:“MJ – The Musical.” 
URL:https://www.sandiegofamily.com/things-to-do/events-calendar/event/50234
 -mj---the-musical
END:VEVENT
END:VCALENDAR
