BEGIN:VCALENDAR
VERSION:2.0
PRODID:-//https://www.sandiegofamily.com///NONSGML kigkonsult.se iCalcreator 2.10.15//
METHOD:PUBLISH
BEGIN:VEVENT
UID:20260424T204132UTC-1447mR4TmI@https://www.sandiegofamily.com/
DTSTAMP:20260424T204132Z
DESCRIPTION: https://www.sandiegofamily.com/things-to-do/events-calendar/ev
 ent/50230-a-book-and-a-ballerina
DTSTART;VALUE=DATE:20260520
LOCATION:San Diego\, CA ()
SUMMARY:“A Book and a Ballerina.” 
URL:https://www.sandiegofamily.com/things-to-do/events-calendar/event/50230
 -a-book-and-a-ballerina
END:VEVENT
END:VCALENDAR
