BEGIN:VCALENDAR
VERSION:2.0
PRODID:-//https://www.sandiegofamily.com///NONSGML kigkonsult.se iCalcreator 2.10.15//
METHOD:PUBLISH
BEGIN:VEVENT
UID:20260425T170417UTC-7946V3dgMV@https://www.sandiegofamily.com/
DTSTAMP:20260425T170417Z
DESCRIPTION: https://www.sandiegofamily.com/things-to-do/events-calendar/ev
 ent/50224-cinco-de-mayo-fiesta
DTSTART;VALUE=DATE:20260505
LOCATION:Rancho Bernardo (17010 Pomerado Rd\, San Diego\, CA 92128\, USA)
SUMMARY:Cinco de Mayo Fiesta
URL:https://www.sandiegofamily.com/things-to-do/events-calendar/event/50224
 -cinco-de-mayo-fiesta
END:VEVENT
END:VCALENDAR
