BEGIN:VCALENDAR
VERSION:2.0
PRODID:-//https://www.sandiegofamily.com///NONSGML kigkonsult.se iCalcreator 2.10.15//
METHOD:PUBLISH
BEGIN:VEVENT
UID:20260424T185358UTC-8208Uzc24Z@https://www.sandiegofamily.com/
DTSTAMP:20260424T185358Z
DESCRIPTION: https://www.sandiegofamily.com/things-to-do/events-calendar/ev
 ent/50218-kidsfest
DTSTART;VALUE=DATE:20260510
LOCATION:Petco Park (100 Park Blvd\, San Diego\, CA 92101\, USA)
SUMMARY:KidsFest
URL:https://www.sandiegofamily.com/things-to-do/events-calendar/event/50218
 -kidsfest
END:VEVENT
END:VCALENDAR
