BEGIN:VCALENDAR
VERSION:2.0
PRODID:-//https://www.sandiegofamily.com///NONSGML kigkonsult.se iCalcreator 2.10.15//
METHOD:PUBLISH
BEGIN:VEVENT
UID:20260425T035501UTC-8583ZfKpRD@https://www.sandiegofamily.com/
DTSTAMP:20260425T035501Z
DESCRIPTION: https://www.sandiegofamily.com/things-to-do/events-calendar/ev
 ent/50215-oceanside-jazz-festival-instrumental
DTSTART;VALUE=DATE:20260502
LOCATION:Oceanside\, CA ()
SUMMARY:Oceanside Jazz Festival-Instrumental
URL:https://www.sandiegofamily.com/things-to-do/events-calendar/event/50215
 -oceanside-jazz-festival-instrumental
END:VEVENT
END:VCALENDAR
