BEGIN:VCALENDAR
VERSION:2.0
PRODID:-//https://www.sandiegofamily.com///NONSGML kigkonsult.se iCalcreator 2.10.15//
METHOD:PUBLISH
BEGIN:VEVENT
UID:20260424T215650UTC-3120AzDATm@https://www.sandiegofamily.com/
DTSTAMP:20260424T215650Z
DESCRIPTION: https://www.sandiegofamily.com/things-to-do/events-calendar/ev
 ent/50214-family-art-adventures-early-childhood
DTSTART;VALUE=DATE:20260502
LOCATION:The San Diego Museum of Art\, Balboa Park (1450 El Prado\, San Die
 go\, CA 92101\, USA)
SUMMARY:Family Art Adventures: Early Childhood
URL:https://www.sandiegofamily.com/things-to-do/events-calendar/event/50214
 -family-art-adventures-early-childhood
END:VEVENT
END:VCALENDAR
