BEGIN:VCALENDAR
VERSION:2.0
PRODID:-//https://www.sandiegofamily.com///NONSGML kigkonsult.se iCalcreator 2.10.15//
METHOD:PUBLISH
BEGIN:VEVENT
UID:20260424T233018UTC-45275kze5H@https://www.sandiegofamily.com/
DTSTAMP:20260424T233018Z
DESCRIPTION: https://www.sandiegofamily.com/things-to-do/events-calendar/ev
 ent/50208-clairemont-outdoor-living-and-garden-tour
DTSTART;VALUE=DATE:20260502
LOCATION:San Diego\, CA ()
SUMMARY:Clairemont Outdoor Living and Garden Tour
URL:https://www.sandiegofamily.com/things-to-do/events-calendar/event/50208
 -clairemont-outdoor-living-and-garden-tour
END:VEVENT
END:VCALENDAR
