BEGIN:VCALENDAR
VERSION:2.0
PRODID:-//https://www.sandiegofamily.com///NONSGML kigkonsult.se iCalcreator 2.10.15//
METHOD:PUBLISH
BEGIN:VEVENT
UID:20260425T170233UTC-1818fsVHGc@https://www.sandiegofamily.com/
DTSTAMP:20260425T170233Z
DESCRIPTION: https://www.sandiegofamily.com/things-to-do/events-calendar/ev
 ent/50207-teen-symposium
DTSTART;VALUE=DATE:20260502
LOCATION:Oceanside\, CA ()
SUMMARY:Teen Symposium
URL:https://www.sandiegofamily.com/things-to-do/events-calendar/event/50207
 -teen-symposium
END:VEVENT
END:VCALENDAR
