BEGIN:VCALENDAR
VERSION:2.0
PRODID:-//https://www.sandiegofamily.com///NONSGML kigkonsult.se iCalcreator 2.10.15//
METHOD:PUBLISH
BEGIN:VEVENT
UID:20260425T131032UTC-8437RotMX0@https://www.sandiegofamily.com/
DTSTAMP:20260425T131032Z
DESCRIPTION: https://www.sandiegofamily.com/things-to-do/events-calendar/ev
 ent/50206-san-diego-made-spring-market-in-la-mesa-village
DTSTART;VALUE=DATE:20260502
LOCATION:La Mesa Village (La Mesa Village\, CA 91942)
SUMMARY:San Diego Made Spring Market in La Mesa Village
URL:https://www.sandiegofamily.com/things-to-do/events-calendar/event/50206
 -san-diego-made-spring-market-in-la-mesa-village
END:VEVENT
END:VCALENDAR
