BEGIN:VCALENDAR
VERSION:2.0
PRODID:-//https://www.sandiegofamily.com///NONSGML kigkonsult.se iCalcreator 2.10.15//
METHOD:PUBLISH
BEGIN:VEVENT
UID:20260425T224524UTC-0646pgk7SU@https://www.sandiegofamily.com/
DTSTAMP:20260425T224524Z
DESCRIPTION: https://www.sandiegofamily.com/things-to-do/events-calendar/ev
 ent/50205-bags-n-brews
DTSTART;VALUE=DATE:20260502
LOCATION:San Marcos\, CA (3 Civic Center Dr\, San Marcos\, CA 92069\, USA)
SUMMARY:Bags N’ Brews
URL:https://www.sandiegofamily.com/things-to-do/events-calendar/event/50205
 -bags-n-brews
END:VEVENT
END:VCALENDAR
