BEGIN:VCALENDAR
VERSION:2.0
PRODID:-//https://www.sandiegofamily.com///NONSGML kigkonsult.se iCalcreator 2.10.15//
METHOD:PUBLISH
BEGIN:VEVENT
UID:20260424T024847UTC-3817wg7Uxe@https://www.sandiegofamily.com/
DTSTAMP:20260424T024847Z
DESCRIPTION: https://www.sandiegofamily.com/things-to-do/events-calendar/ev
 ent/50179-orchids-in-the-wild
DTSTART;VALUE=DATE:20260502
LOCATION:San Diego Botanic Garden (230 Quail Gardens Dr\, Encinitas\, CA 92
 024\, USA)
SUMMARY:Orchids in the Wild
URL:https://www.sandiegofamily.com/things-to-do/events-calendar/event/50179
 -orchids-in-the-wild
END:VEVENT
END:VCALENDAR
