BEGIN:VCALENDAR
VERSION:2.0
PRODID:-//https://www.sandiegofamily.com///NONSGML kigkonsult.se iCalcreator 2.10.15//
METHOD:PUBLISH
BEGIN:VEVENT
UID:20260425T153517UTC-6727U5jtO1@https://www.sandiegofamily.com/
DTSTAMP:20260425T153517Z
DESCRIPTION: https://www.sandiegofamily.com/things-to-do/events-calendar/ev
 ent/50177-world-labyrinth-day
DTSTART;VALUE=DATE:20260502
LOCATION:Alta Vista Botanical Gardens (Alta Vista Botanical Gardens\, 1270 
 Vale Terrace Dr\, Vista\, CA 92084\, USA)
SUMMARY:World Labyrinth Day
URL:https://www.sandiegofamily.com/things-to-do/events-calendar/event/50177
 -world-labyrinth-day
END:VEVENT
END:VCALENDAR
