BEGIN:VCALENDAR
VERSION:2.0
PRODID:-//https://www.sandiegofamily.com///NONSGML kigkonsult.se iCalcreator 2.10.15//
METHOD:PUBLISH
BEGIN:VEVENT
UID:20260425T183642UTC-4486ahg3AJ@https://www.sandiegofamily.com/
DTSTAMP:20260425T183642Z
DESCRIPTION: https://www.sandiegofamily.com/things-to-do/events-calendar/ev
 ent/50176-rooftop-cinema-lilo-stitch
DTSTART;VALUE=DATE:20260502
LOCATION:Rooftop Cinema Club (1 Market Pl\, San Diego\, CA 92101\, USA)
SUMMARY:Rooftop Cinema: “Lilo & Stitch.” 
URL:https://www.sandiegofamily.com/things-to-do/events-calendar/event/50176
 -rooftop-cinema-lilo-stitch
END:VEVENT
END:VCALENDAR
