BEGIN:VCALENDAR
VERSION:2.0
PRODID:-//https://www.sandiegofamily.com///NONSGML kigkonsult.se iCalcreator 2.10.15//
METHOD:PUBLISH
BEGIN:VEVENT
UID:20260425T124810UTC-4534o7coLM@https://www.sandiegofamily.com/
DTSTAMP:20260425T124810Z
DESCRIPTION: https://www.sandiegofamily.com/things-to-do/events-calendar/ev
 ent/50174-fern-street-circus
DTSTART;VALUE=DATE:20260516
LOCATION:San Diego\, CA ()
SUMMARY:Fern Street Circus
URL:https://www.sandiegofamily.com/things-to-do/events-calendar/event/50174
 -fern-street-circus
END:VEVENT
END:VCALENDAR
