BEGIN:VCALENDAR
VERSION:2.0
PRODID:-//https://www.sandiegofamily.com///NONSGML kigkonsult.se iCalcreator 2.10.15//
METHOD:PUBLISH
BEGIN:VEVENT
UID:20260425T033904UTC-6052geaEmP@https://www.sandiegofamily.com/
DTSTAMP:20260425T033904Z
DESCRIPTION: https://www.sandiegofamily.com/things-to-do/events-calendar/ev
 ent/50171-walk-for-animals
DTSTART;VALUE=DATE:20260502
LOCATION:NTC Park at Liberty Station (2455 Cushing Rd\, San Diego\, CA 9210
 6\, USA)
SUMMARY:Walk for Animals
URL:https://www.sandiegofamily.com/things-to-do/events-calendar/event/50171
 -walk-for-animals
END:VEVENT
END:VCALENDAR
