BEGIN:VCALENDAR
VERSION:2.0
PRODID:-//https://www.sandiegofamily.com///NONSGML kigkonsult.se iCalcreator 2.10.15//
METHOD:PUBLISH
BEGIN:VEVENT
UID:20260425T105658UTC-8143M727AV@https://www.sandiegofamily.com/
DTSTAMP:20260425T105658Z
DESCRIPTION: https://www.sandiegofamily.com/things-to-do/events-calendar/ev
 ent/50164-legoland-water-park
DTSTART;VALUE=DATE:20260510
LOCATION:LEGOLAND California Resort (1 Legoland Dr\, Carlsbad\, CA 92008\, 
 USA)
SUMMARY:LEGOLAND Water Park
URL:https://www.sandiegofamily.com/things-to-do/events-calendar/event/50164
 -legoland-water-park
END:VEVENT
END:VCALENDAR
