BEGIN:VCALENDAR
VERSION:2.0
PRODID:-//https://www.sandiegofamily.com///NONSGML kigkonsult.se iCalcreator 2.10.15//
METHOD:PUBLISH
BEGIN:VEVENT
UID:20260425T224539UTC-0378THHH7W@https://www.sandiegofamily.com/
DTSTAMP:20260425T224539Z
DESCRIPTION: https://www.sandiegofamily.com/things-to-do/events-calendar/ev
 ent/50159-north-park-community-fair
DTSTART;VALUE=DATE:20260502
LOCATION:San Diego\, CA ()
SUMMARY:North Park Community Fair
URL:https://www.sandiegofamily.com/things-to-do/events-calendar/event/50159
 -north-park-community-fair
END:VEVENT
END:VCALENDAR
