BEGIN:VCALENDAR
VERSION:2.0
PRODID:-//https://www.sandiegofamily.com///NONSGML kigkonsult.se iCalcreator 2.10.15//
METHOD:PUBLISH
BEGIN:VEVENT
UID:20260425T210009UTC-61492sZPLE@https://www.sandiegofamily.com/
DTSTAMP:20260425T210009Z
DESCRIPTION: https://www.sandiegofamily.com/things-to-do/events-calendar/ev
 ent/50158-free-comic-book-day
DTSTART;VALUE=DATE:20260502
LOCATION:San Diego\, CA ()
SUMMARY:FREE Comic Book Day
URL:https://www.sandiegofamily.com/things-to-do/events-calendar/event/50158
 -free-comic-book-day
END:VEVENT
END:VCALENDAR
