BEGIN:VCALENDAR
VERSION:2.0
PRODID:-//https://www.sandiegofamily.com///NONSGML kigkonsult.se iCalcreator 2.10.15//
METHOD:PUBLISH
BEGIN:VEVENT
UID:20260425T145205UTC-6589OvSsXV@https://www.sandiegofamily.com/
DTSTAMP:20260425T145205Z
DESCRIPTION: https://www.sandiegofamily.com/things-to-do/events-calendar/ev
 ent/50156-san-diego-fc-soccer-team
DTSTART;VALUE=DATE:20260516
LOCATION:Snapdragon Stadium (2101 Stadium Way\, San Diego\, CA 92108\, USA)
SUMMARY:San Diego FC Soccer Team
URL:https://www.sandiegofamily.com/things-to-do/events-calendar/event/50156
 -san-diego-fc-soccer-team
END:VEVENT
END:VCALENDAR
