BEGIN:VCALENDAR
VERSION:2.0
PRODID:-//https://www.sandiegofamily.com///NONSGML kigkonsult.se iCalcreator 2.10.15//
METHOD:PUBLISH
BEGIN:VEVENT
UID:20260425T110657UTC-3831MSXi8W@https://www.sandiegofamily.com/
DTSTAMP:20260425T110657Z
DESCRIPTION: https://www.sandiegofamily.com/things-to-do/events-calendar/ev
 ent/50154-san-diego-fc-soccer-team
DTSTART;VALUE=DATE:20260502
LOCATION:Snapdragon Stadium (2101 Stadium Way\, San Diego\, CA 92108\, USA)
SUMMARY:San Diego FC Soccer Team
URL:https://www.sandiegofamily.com/things-to-do/events-calendar/event/50154
 -san-diego-fc-soccer-team
END:VEVENT
END:VCALENDAR
