BEGIN:VCALENDAR
VERSION:2.0
PRODID:-//https://www.sandiegofamily.com///NONSGML kigkonsult.se iCalcreator 2.10.15//
METHOD:PUBLISH
BEGIN:VEVENT
UID:20260425T183931UTC-6700lIlWFN@https://www.sandiegofamily.com/
DTSTAMP:20260425T183931Z
DESCRIPTION: https://www.sandiegofamily.com/things-to-do/events-calendar/ev
 ent/50153-spring-garden-butterfly-festival
DTSTART;VALUE=DATE:20260502
LOCATION:The Water Conservation Garden (12122 Cuyamaca College Dr W\, El Ca
 jon\, CA 92019\, USA)
SUMMARY:Spring Garden & Butterfly Festival
URL:https://www.sandiegofamily.com/things-to-do/events-calendar/event/50153
 -spring-garden-butterfly-festival
END:VEVENT
END:VCALENDAR
