BEGIN:VCALENDAR
VERSION:2.0
PRODID:-//https://www.sandiegofamily.com///NONSGML kigkonsult.se iCalcreator 2.10.15//
METHOD:PUBLISH
BEGIN:VEVENT
UID:20260425T195946UTC-3128cUV3pN@https://www.sandiegofamily.com/
DTSTAMP:20260425T195946Z
DESCRIPTION: https://www.sandiegofamily.com/things-to-do/events-calendar/ev
 ent/50152-santee-lakes-spring-market
DTSTART;VALUE=DATE:20260502
LOCATION:Santee Lakes (9310 Fanita Pkwy\, Santee\, CA 92071\, USA)
SUMMARY:Santee Lakes Spring Market
URL:https://www.sandiegofamily.com/things-to-do/events-calendar/event/50152
 -santee-lakes-spring-market
END:VEVENT
END:VCALENDAR
