BEGIN:VCALENDAR
VERSION:2.0
PRODID:-//https://www.sandiegofamily.com///NONSGML kigkonsult.se iCalcreator 2.10.15//
METHOD:PUBLISH
BEGIN:VEVENT
UID:20260425T204459UTC-1692VZnkum@https://www.sandiegofamily.com/
DTSTAMP:20260425T204459Z
DESCRIPTION: https://www.sandiegofamily.com/things-to-do/events-calendar/ev
 ent/50147-mt-helix-academys-disneys-descendants-the-musical
DTSTART;VALUE=DATE:20260501
LOCATION:San Diego\, CA ()
SUMMARY:Mt. Helix Academy’s “Disney's Descendants: The Musical.” 
URL:https://www.sandiegofamily.com/things-to-do/events-calendar/event/50147
 -mt-helix-academys-disneys-descendants-the-musical
END:VEVENT
END:VCALENDAR
