BEGIN:VCALENDAR
VERSION:2.0
PRODID:-//https://www.sandiegofamily.com///NONSGML kigkonsult.se iCalcreator 2.10.15//
METHOD:PUBLISH
BEGIN:VEVENT
UID:20260425T140133UTC-3785sSsVDM@https://www.sandiegofamily.com/
DTSTAMP:20260425T140133Z
DESCRIPTION: https://www.sandiegofamily.com/things-to-do/events-calendar/ev
 ent/50109-u-pick-strawberry-fields
DTSTART;VALUE=DATE:20260622
LOCATION:Carlsbad Strawberry Fields (1050 Cannon Rd\, Carlsbad\, CA 92008\,
  USA)
SUMMARY:U-Pick Strawberry Fields
URL:https://www.sandiegofamily.com/things-to-do/events-calendar/event/50109
 -u-pick-strawberry-fields
END:VEVENT
END:VCALENDAR
