BEGIN:VCALENDAR
VERSION:2.0
PRODID:-//https://www.sandiegofamily.com///NONSGML kigkonsult.se iCalcreator 2.10.15//
METHOD:PUBLISH
BEGIN:VEVENT
UID:20260425T153912UTC-6584Vh80Ia@https://www.sandiegofamily.com/
DTSTAMP:20260425T153912Z
DESCRIPTION: https://www.sandiegofamily.com/things-to-do/events-calendar/ev
 ent/50049-roar-snore-safari
DTSTART;VALUE=DATE:20260502
LOCATION:San Diego Zoo Safari Park (15500 San Pasqual Valley Rd\, Escondido
 \, CA 92027\, USA)
SUMMARY:Roar & Snore Safari
URL:https://www.sandiegofamily.com/things-to-do/events-calendar/event/50049
 -roar-snore-safari
END:VEVENT
END:VCALENDAR
