BEGIN:VCALENDAR
VERSION:2.0
PRODID:-//https://www.sandiegofamily.com///NONSGML kigkonsult.se iCalcreator 2.10.15//
METHOD:PUBLISH
BEGIN:VEVENT
UID:20260425T175844UTC-70474g7sKI@https://www.sandiegofamily.com/
DTSTAMP:20260425T175844Z
DESCRIPTION: https://www.sandiegofamily.com/things-to-do/events-calendar/ev
 ent/50047-first-friday-la-jolla-art-walk
DTSTART;VALUE=DATE:20260501
LOCATION:La Jolla\, CA (Girard Ave\, La Jolla\, CA 92037\, USA)
SUMMARY:First Friday La Jolla Art Walk
URL:https://www.sandiegofamily.com/things-to-do/events-calendar/event/50047
 -first-friday-la-jolla-art-walk
END:VEVENT
END:VCALENDAR
