BEGIN:VCALENDAR
VERSION:2.0
PRODID:-//https://www.sandiegofamily.com///NONSGML kigkonsult.se iCalcreator 2.10.15//
METHOD:PUBLISH
BEGIN:VEVENT
UID:20260425T123634UTC-6659PLviIi@https://www.sandiegofamily.com/
DTSTAMP:20260425T123634Z
DESCRIPTION: https://www.sandiegofamily.com/things-to-do/events-calendar/ev
 ent/50041-viva-la-musica
DTSTART;VALUE=DATE:20260508
LOCATION:SeaWorld San Diego (500 Sea World Dr\, San Diego\, CA 92109\, USA)
SUMMARY:Viva La Musica
URL:https://www.sandiegofamily.com/things-to-do/events-calendar/event/50041
 -viva-la-musica
END:VEVENT
END:VCALENDAR
