BEGIN:VCALENDAR
VERSION:2.0
PRODID:-//https://www.sandiegofamily.com///NONSGML kigkonsult.se iCalcreator 2.10.15//
METHOD:PUBLISH
BEGIN:VEVENT
UID:20260424T231105UTC-2438ISVHDR@https://www.sandiegofamily.com/
DTSTAMP:20260424T231105Z
DESCRIPTION: https://www.sandiegofamily.com/things-to-do/events-calendar/ev
 ent/50036-riverdance
DTSTART;VALUE=DATE:20260502
LOCATION:San Diego Civic Theatre (1100 Third Ave\, San Diego\, CA 92101\, U
 SA)
SUMMARY:“Riverdance.” 
URL:https://www.sandiegofamily.com/things-to-do/events-calendar/event/50036
 -riverdance
END:VEVENT
END:VCALENDAR
