BEGIN:VCALENDAR
VERSION:2.0
PRODID:-//https://www.sandiegofamily.com///NONSGML kigkonsult.se iCalcreator 2.10.15//
METHOD:PUBLISH
BEGIN:VEVENT
UID:20260425T150152UTC-1098XKNzIf@https://www.sandiegofamily.com/
DTSTAMP:20260425T150152Z
DESCRIPTION: https://www.sandiegofamily.com/things-to-do/events-calendar/ev
 ent/50024-movies-on-the-beach
DTSTART;VALUE=DATE:20260501
LOCATION:Hotel del Coronado  (1500 Orange Ave.\, Coronado)
SUMMARY:Movies on the Beach
URL:https://www.sandiegofamily.com/things-to-do/events-calendar/event/50024
 -movies-on-the-beach
END:VEVENT
END:VCALENDAR
