BEGIN:VCALENDAR
VERSION:2.0
PRODID:-//https://www.sandiegofamily.com///NONSGML kigkonsult.se iCalcreator 2.10.15//
METHOD:PUBLISH
BEGIN:VEVENT
UID:20260424T211553UTC-61623CvgrZ@https://www.sandiegofamily.com/
DTSTAMP:20260424T211553Z
DESCRIPTION: https://www.sandiegofamily.com/things-to-do/events-calendar/ev
 ent/50022-overnight-adventure-program
DTSTART;VALUE=DATE:20260508
LOCATION:USS Midway Museum (910 N Harbor Dr\, San Diego\, CA 92101\, USA)
SUMMARY:Overnight Adventure Program
URL:https://www.sandiegofamily.com/things-to-do/events-calendar/event/50022
 -overnight-adventure-program
END:VEVENT
END:VCALENDAR
