BEGIN:VCALENDAR
VERSION:2.0
PRODID:-//https://www.sandiegofamily.com///NONSGML kigkonsult.se iCalcreator 2.10.15//
METHOD:PUBLISH
BEGIN:VEVENT
UID:20260424T111843UTC-4997gDAU9b@https://www.sandiegofamily.com/
DTSTAMP:20260424T111843Z
DESCRIPTION: https://www.sandiegofamily.com/things-to-do/events-calendar/ev
 ent/50012-kids-bowl-free
DTSTART;VALUE=DATE:20260801
LOCATION:San Diego\, CA ()
SUMMARY:Kids Bowl FREE
URL:https://www.sandiegofamily.com/things-to-do/events-calendar/event/50012
 -kids-bowl-free
END:VEVENT
END:VCALENDAR
