BEGIN:VCALENDAR
VERSION:2.0
PRODID:-//https://www.sandiegofamily.com///NONSGML kigkonsult.se iCalcreator 2.10.15//
METHOD:PUBLISH
BEGIN:VEVENT
UID:20260422T012422UTC-1941ZEpvXn@https://www.sandiegofamily.com/
DTSTAMP:20260422T012422Z
DESCRIPTION: https://www.sandiegofamily.com/things-to-do/events-calendar/ev
 ent/49999-kids-bowl-free
DTSTART;VALUE=DATE:20260719
LOCATION:San Diego\, CA ()
SUMMARY:Kids Bowl FREE
URL:https://www.sandiegofamily.com/things-to-do/events-calendar/event/49999
 -kids-bowl-free
END:VEVENT
END:VCALENDAR
