BEGIN:VCALENDAR
VERSION:2.0
PRODID:-//https://www.sandiegofamily.com///NONSGML kigkonsult.se iCalcreator 2.10.15//
METHOD:PUBLISH
BEGIN:VEVENT
UID:20260422T074339UTC-5401Mrdxle@https://www.sandiegofamily.com/
DTSTAMP:20260422T074339Z
DESCRIPTION: https://www.sandiegofamily.com/things-to-do/events-calendar/ev
 ent/49974-kids-bowl-free
DTSTART;VALUE=DATE:20260624
LOCATION:San Diego\, CA ()
SUMMARY:Kids Bowl FREE
URL:https://www.sandiegofamily.com/things-to-do/events-calendar/event/49974
 -kids-bowl-free
END:VEVENT
END:VCALENDAR
