BEGIN:VCALENDAR
VERSION:2.0
PRODID:-//https://www.sandiegofamily.com///NONSGML kigkonsult.se iCalcreator 2.10.15//
METHOD:PUBLISH
BEGIN:VEVENT
UID:20260424T124731UTC-2683o63aVm@https://www.sandiegofamily.com/
DTSTAMP:20260424T124731Z
DESCRIPTION: https://www.sandiegofamily.com/things-to-do/events-calendar/ev
 ent/49972-kids-bowl-free
DTSTART;VALUE=DATE:20260622
LOCATION:San Diego\, CA ()
SUMMARY:Kids Bowl FREE
URL:https://www.sandiegofamily.com/things-to-do/events-calendar/event/49972
 -kids-bowl-free
END:VEVENT
END:VCALENDAR
