BEGIN:VCALENDAR
VERSION:2.0
PRODID:-//https://www.sandiegofamily.com///NONSGML kigkonsult.se iCalcreator 2.10.15//
METHOD:PUBLISH
BEGIN:VEVENT
UID:20260422T121032UTC-2052vGLuw1@https://www.sandiegofamily.com/
DTSTAMP:20260422T121032Z
DESCRIPTION: https://www.sandiegofamily.com/things-to-do/events-calendar/ev
 ent/49956-kids-bowl-free
DTSTART;VALUE=DATE:20260606
LOCATION:San Diego\, CA ()
SUMMARY:Kids Bowl FREE
URL:https://www.sandiegofamily.com/things-to-do/events-calendar/event/49956
 -kids-bowl-free
END:VEVENT
END:VCALENDAR
