BEGIN:VCALENDAR
VERSION:2.0
PRODID:-//https://www.sandiegofamily.com///NONSGML kigkonsult.se iCalcreator 2.10.15//
METHOD:PUBLISH
BEGIN:VEVENT
UID:20260424T202543UTC-1903d1AAwe@https://www.sandiegofamily.com/
DTSTAMP:20260424T202543Z
DESCRIPTION: https://www.sandiegofamily.com/things-to-do/events-calendar/ev
 ent/49913-padres-home-games
DTSTART;VALUE=DATE:20260520
LOCATION:Petco Park (100 Park Blvd\, San Diego\, CA 92101\, USA)
SUMMARY:Padres Home Games
URL:https://www.sandiegofamily.com/things-to-do/events-calendar/event/49913
 -padres-home-games
END:VEVENT
END:VCALENDAR
