BEGIN:VCALENDAR
VERSION:2.0
PRODID:-//https://www.sandiegofamily.com///NONSGML kigkonsult.se iCalcreator 2.10.15//
METHOD:PUBLISH
BEGIN:VEVENT
UID:20260424T161559UTC-0453oDgKHU@https://www.sandiegofamily.com/
DTSTAMP:20260424T161559Z
DESCRIPTION: https://www.sandiegofamily.com/things-to-do/events-calendar/ev
 ent/49908-padres-home-games
DTSTART;VALUE=DATE:20260508
LOCATION:Petco Park (100 Park Blvd\, San Diego\, CA 92101\, USA)
SUMMARY:Padres Home Games
URL:https://www.sandiegofamily.com/things-to-do/events-calendar/event/49908
 -padres-home-games
END:VEVENT
END:VCALENDAR
