BEGIN:VCALENDAR
VERSION:2.0
PRODID:-//https://www.sandiegofamily.com///NONSGML kigkonsult.se iCalcreator 2.10.15//
METHOD:PUBLISH
BEGIN:VEVENT
UID:20260425T142716UTC-5098v5Xsvp@https://www.sandiegofamily.com/
DTSTAMP:20260425T142716Z
DESCRIPTION: https://www.sandiegofamily.com/things-to-do/events-calendar/ev
 ent/49903-imagine-wild-mountain-yellow-legged-frog
DTSTART;VALUE=DATE:20260630
LOCATION:Birch Aquarium at Scripps (2300 Expedition Way\, La Jolla\, CA 920
 37\, USA)
SUMMARY:Imagine Wild: Mountain Yellow-legged Frog
URL:https://www.sandiegofamily.com/things-to-do/events-calendar/event/49903
 -imagine-wild-mountain-yellow-legged-frog
END:VEVENT
END:VCALENDAR
