BEGIN:VCALENDAR
VERSION:2.0
PRODID:-//https://www.sandiegofamily.com///NONSGML kigkonsult.se iCalcreator 2.10.15//
METHOD:PUBLISH
BEGIN:VEVENT
UID:20260424T132007UTC-59085OojGE@https://www.sandiegofamily.com/
DTSTAMP:20260424T132007Z
DESCRIPTION: https://www.sandiegofamily.com/things-to-do/events-calendar/ev
 ent/49877-imagine-wild-mountain-yellow-legged-frog
DTSTART;VALUE=DATE:20260604
LOCATION:Birch Aquarium at Scripps (2300 Expedition Way\, La Jolla\, CA 920
 37\, USA)
SUMMARY:Imagine Wild: Mountain Yellow-legged Frog
URL:https://www.sandiegofamily.com/things-to-do/events-calendar/event/49877
 -imagine-wild-mountain-yellow-legged-frog
END:VEVENT
END:VCALENDAR
