BEGIN:VCALENDAR
VERSION:2.0
PRODID:-//https://www.sandiegofamily.com///NONSGML kigkonsult.se iCalcreator 2.10.15//
METHOD:PUBLISH
BEGIN:VEVENT
UID:20260425T151644UTC-0112JZFm40@https://www.sandiegofamily.com/
DTSTAMP:20260425T151644Z
DESCRIPTION: https://www.sandiegofamily.com/things-to-do/events-calendar/ev
 ent/49842-kpbs-kids-event-curious-george
DTSTART;VALUE=DATE:20260501
LOCATION:Children's Museum of Discovery (320 N Broadway\, Escondido\, CA 92
 025\, USA)
SUMMARY:KPBS Kids Event: Curious George
URL:https://www.sandiegofamily.com/things-to-do/events-calendar/event/49842
 -kpbs-kids-event-curious-george
END:VEVENT
END:VCALENDAR
