BEGIN:VCALENDAR
VERSION:2.0
PRODID:-//https://www.sandiegofamily.com///NONSGML kigkonsult.se iCalcreator 2.10.15//
METHOD:PUBLISH
BEGIN:VEVENT
UID:20260424T084853UTC-2447Jk9CCv@https://www.sandiegofamily.com/
DTSTAMP:20260424T084853Z
DESCRIPTION: https://www.sandiegofamily.com/things-to-do/events-calendar/ev
 ent/49839-beau-jest
DTSTART;VALUE=DATE:20260515
LOCATION:North Coast Repertory Theatre (987 Lomas Santa Fe Dr\, Solana Beac
 h\, CA 92075\, USA)
SUMMARY:“Beau Jest.”
URL:https://www.sandiegofamily.com/things-to-do/events-calendar/event/49839
 -beau-jest
END:VEVENT
END:VCALENDAR
