BEGIN:VCALENDAR
VERSION:2.0
PRODID:-//https://www.sandiegofamily.com///NONSGML kigkonsult.se iCalcreator 2.10.15//
METHOD:PUBLISH
BEGIN:VEVENT
UID:20260424T084808UTC-5104buPSVm@https://www.sandiegofamily.com/
DTSTAMP:20260424T084808Z
DESCRIPTION: https://www.sandiegofamily.com/things-to-do/events-calendar/ev
 ent/49828-beau-jest
DTSTART;VALUE=DATE:20260430
LOCATION:North Coast Repertory Theatre (987 Lomas Santa Fe Dr\, Solana Beac
 h\, CA 92075\, USA)
SUMMARY:“Beau Jest.”
URL:https://www.sandiegofamily.com/things-to-do/events-calendar/event/49828
 -beau-jest
END:VEVENT
END:VCALENDAR
